BEGIN:VCALENDAR
VERSION:2.0
PRODID:-//hacksw/handcal//NONSGML v1.0//EN
BEGIN:VEVENT
SUMMARY:Championnats de France Elite a Albi
UID:24533f89-56d9-437b-b592-7a40391c5937
DTSTART:20260723T220000Z
DTEND:20260726T220000Z
LOCATION:Localisation   
CATEGORIES:Sportif
STATUS:
URL;VALUE=URI:https://www.bacoutances-macs.com/evenements/2026/07/24/championnats-de-france-elite-a-albi-2439697
END:VEVENT
END:VCALENDAR
