BEGIN:VCALENDAR
VERSION:2.0
PRODID:-//hacksw/handcal//NONSGML v1.0//EN
BEGIN:VEVENT
SUMMARY:Championnats de France CJE a Charlety (Paris)
UID:3c292d4b-4470-470f-b1de-5e901c801d8d
DTSTART:20260715T220000Z
DTEND:20260719T220000Z
LOCATION:Localisation   
CATEGORIES:Sportif
STATUS:
URL;VALUE=URI:https://www.bacoutances-macs.com/evenements/2026/07/16/championnats-de-france-cje-a-charlety-paris-2439696
END:VEVENT
END:VCALENDAR
