BEGIN:VCALENDAR
VERSION:2.0
PRODID:-//hacksw/handcal//NONSGML v1.0//EN
BEGIN:VEVENT
SUMMARY:OPEN de FRANCE a BLOIS
UID:11998668-ddd4-47a3-a834-80a3a8fca5fa
DTSTART:20260710T220000Z
DTEND:20260712T220000Z
LOCATION:Localisation   
CATEGORIES:Sportif
STATUS:
URL;VALUE=URI:https://www.bacoutances-macs.com/evenements/2026/07/11/open-de-france-a-blois-2439692
END:VEVENT
END:VCALENDAR
