BEGIN:VCALENDAR
VERSION:2.0
PRODID:-//hacksw/handcal//NONSGML v1.0//EN
BEGIN:VEVENT
SUMMARY:Finale Regionale des Pointes d'Or benjamins-minimes a Saint-lo
UID:d15091ee-0048-4f73-a86a-71082fab1071
DTSTART:20260704T220000Z
DTEND:20260705T220000Z
LOCATION:Localisation   
CATEGORIES:Sportif
STATUS:
URL;VALUE=URI:https://www.bacoutances-macs.com/evenements/2026/07/05/finale-regionale-des-pointes-dor-benjamins-minimes-a-saint-lo-2439691
END:VEVENT
END:VCALENDAR
