BEGIN:VCALENDAR
VERSION:2.0
PRODID:-//hacksw/handcal//NONSGML v1.0//EN
BEGIN:VEVENT
SUMMARY:Pre-France CJES a Laval
UID:3de276cc-155a-40d6-a7f6-32424ce96147
DTSTART:20260703T220000Z
DTEND:20260705T220000Z
LOCATION:Localisation   
CATEGORIES:Sportif
STATUS:
URL;VALUE=URI:https://www.bacoutances-macs.com/evenements/2026/07/04/pre-france-cjes-a-laval-2439689
END:VEVENT
END:VCALENDAR
