BEGIN:VCALENDAR
VERSION:2.0
PRODID:-//hacksw/handcal//NONSGML v1.0//EN
BEGIN:VEVENT
SUMMARY:Finale Nationale de Pointe D'Or a Dreux
UID:f8b7f6f7-0076-4c4c-9264-a2335bdb7d31
DTSTART:20260703T220000Z
DTEND:20260705T220000Z
LOCATION:Localisation   
CATEGORIES:Sportif
STATUS:
URL;VALUE=URI:https://www.bacoutances-macs.com/evenements/2026/07/04/finale-nationale-de-pointe-dor-a-dreux-2439690
END:VEVENT
END:VCALENDAR
