BEGIN:VCALENDAR
VERSION:2.0
PRODID:-//hacksw/handcal//NONSGML v1.0//EN
BEGIN:VEVENT
SUMMARY:Meeting du BA Coutances
UID:d437715d-82f3-451a-9b5a-803f9561ba41
DTSTART:20260630T220000Z
DTEND:20260701T220000Z
LOCATION:Localisation   
CATEGORIES:Sportif
STATUS:
URL;VALUE=URI:https://www.bacoutances-macs.com/evenements/2026/07/01/meeting-du-ba-coutances-2439688
END:VEVENT
END:VCALENDAR
