BEGIN:VCALENDAR
VERSION:2.0
PRODID:-//hacksw/handcal//NONSGML v1.0//EN
BEGIN:VEVENT
SUMMARY:Championnats de Normandie Ouest benjamins a Coutances
UID:6a46b80b-2d88-4564-a233-8c511c8302db
DTSTART:20260627T220000Z
DTEND:20260628T220000Z
LOCATION:Localisation   
CATEGORIES:Sportif
STATUS:
URL;VALUE=URI:https://www.bacoutances-macs.com/evenements/2026/06/28/championnats-de-normandie-ouest-benjamins-a-coutances-2439687
END:VEVENT
END:VCALENDAR
