BEGIN:VCALENDAR
VERSION:2.0
PRODID:-//hacksw/handcal//NONSGML v1.0//EN
BEGIN:VEVENT
SUMMARY:Meeting Regional de CAEN
UID:4c6cfc70-f5c0-40c0-b2a1-d5690843fada
DTSTART:20260626T220000Z
DTEND:20260627T220000Z
LOCATION:Localisation   
CATEGORIES:Sportif
STATUS:
URL;VALUE=URI:https://www.bacoutances-macs.com/evenements/2026/06/27/meeting-regional-de-caen-2439686
END:VEVENT
END:VCALENDAR
