BEGIN:VCALENDAR
VERSION:2.0
PRODID:-//hacksw/handcal//NONSGML v1.0//EN
BEGIN:VEVENT
SUMMARY:Kids Athle U10 et U12 a Conde-sur-Vire
UID:406fe705-1170-436e-a8bb-2823ac6d9cbb
DTSTART:20260619T220000Z
DTEND:20260620T220000Z
LOCATION:Localisation   
CATEGORIES:Sportif
STATUS:
URL;VALUE=URI:https://www.bacoutances-macs.com/evenements/2026/06/20/kids-athle-u10-et-u12-a-conde-sur-vire-2439683
END:VEVENT
END:VCALENDAR
