BEGIN:VCALENDAR
VERSION:2.0
PRODID:-//hacksw/handcal//NONSGML v1.0//EN
BEGIN:VEVENT
SUMMARY:Championnats de Normandie CJS a Val-de-Reuil
UID:e3b88fe3-d664-49ee-9a3a-34c332921b9b
DTSTART:20260619T220000Z
DTEND:20260621T220000Z
LOCATION:Localisation   
CATEGORIES:Sportif
STATUS:
URL;VALUE=URI:https://www.bacoutances-macs.com/evenements/2026/06/20/championnats-de-normandie-cjs-a-val-de-reuil-2439685
END:VEVENT
END:VCALENDAR
