BEGIN:VCALENDAR
VERSION:2.0
PRODID:-//hacksw/handcal//NONSGML v1.0//EN
BEGIN:VEVENT
SUMMARY:Championnats de Normandie minimes a Tourlaville
UID:9492dece-80ac-4a12-8a84-a6481cda3978
DTSTART:20260613T220000Z
DTEND:20260614T220000Z
LOCATION:Localisation   
CATEGORIES:Sportif
STATUS:
URL;VALUE=URI:https://www.bacoutances-macs.com/evenements/2026/06/14/championnats-de-normandie-minimes-a-tourlaville-2439682
END:VEVENT
END:VCALENDAR
