BEGIN:VCALENDAR
VERSION:2.0
PRODID:-//hacksw/handcal//NONSGML v1.0//EN
BEGIN:VEVENT
SUMMARY:Meeting CD50 a Saint-Lo
UID:7228223c-1f88-45cd-90ab-10a9583fb4ff
DTSTART:20260612T220000Z
DTEND:20260613T220000Z
LOCATION:Localisation   
CATEGORIES:Sportif
STATUS:
URL;VALUE=URI:https://www.bacoutances-macs.com/evenements/2026/06/13/meeting-cd50-a-saint-lo-2439680
END:VEVENT
END:VCALENDAR
