BEGIN:VCALENDAR
VERSION:2.0
PRODID:-//hacksw/handcal//NONSGML v1.0//EN
BEGIN:VEVENT
SUMMARY:Kids Athle U10 et U12 a Saint-Lo
UID:55b3fbfb-5e7e-4cdb-a997-bb274f557ff7
DTSTART:20260612T220000Z
DTEND:20260613T220000Z
LOCATION:Localisation   
CATEGORIES:Sportif
STATUS:
URL;VALUE=URI:https://www.bacoutances-macs.com/evenements/2026/06/13/kids-athle-u10-et-u12-a-saint-lo-2439681
END:VEVENT
END:VCALENDAR
