BEGIN:VCALENDAR
VERSION:2.0
PRODID:-//hacksw/handcal//NONSGML v1.0//EN
BEGIN:VEVENT
SUMMARY:Triathlon Benjamins-minimes a Avranches
UID:e5086726-7524-45e9-a0f1-04f48b63ab9b
DTSTART:20260606T220000Z
DTEND:20260607T220000Z
LOCATION:Localisation   
CATEGORIES:Sportif
STATUS:
URL;VALUE=URI:https://www.bacoutances-macs.com/evenements/2026/06/07/triathlon-benjamins-minimes-a-avranches-2439678
END:VEVENT
END:VCALENDAR
